BEGIN:VCALENDAR
VERSION:2.0
PRODID:-//Sport Scheduler Pro//Schedule//EN
X-WR-CALNAME:Green - Spring 2026
CALSCALE:GREGORIAN
METHOD:PUBLISH
BEGIN:VEVENT
UID:g_1_1@sportschedulerpro.com
DTSTAMP:20260424T143058Z
DTSTART:20260418T100000
DTEND:20260418T120000
SUMMARY:Grey @ Green
DESCRIPTION:Spring 2026
END:VEVENT
BEGIN:VEVENT
UID:g_1_3@sportschedulerpro.com
DTSTAMP:20260424T143058Z
DTSTART:20260422T180000
DTEND:20260422T200000
SUMMARY:Green @ White
DESCRIPTION:Spring 2026
END:VEVENT
BEGIN:VEVENT
UID:g_2_4@sportschedulerpro.com
DTSTAMP:20260424T143058Z
DTSTART:20260425T100000
DTEND:20260425T120000
SUMMARY:Gold @ Green
DESCRIPTION:Spring 2026
END:VEVENT
BEGIN:VEVENT
UID:g_2_7@sportschedulerpro.com
DTSTAMP:20260424T143058Z
DTSTART:20260429T180000
DTEND:20260429T200000
SUMMARY:Green @ White
DESCRIPTION:Spring 2026
END:VEVENT
BEGIN:VEVENT
UID:g_3_8@sportschedulerpro.com
DTSTAMP:20260424T143058Z
DTSTART:20260502T100000
DTEND:20260502T120000
SUMMARY:Gold @ Green
DESCRIPTION:Spring 2026
END:VEVENT
BEGIN:VEVENT
UID:g_3_11@sportschedulerpro.com
DTSTAMP:20260424T143058Z
DTSTART:20260506T180000
DTEND:20260506T200000
SUMMARY:Grey @ Green
DESCRIPTION:Spring 2026
END:VEVENT
BEGIN:VEVENT
UID:g_4_13@sportschedulerpro.com
DTSTAMP:20260424T143058Z
DTSTART:20260509T100000
DTEND:20260509T120000
SUMMARY:Green @ White
DESCRIPTION:Spring 2026
END:VEVENT
BEGIN:VEVENT
UID:g_4_14@sportschedulerpro.com
DTSTAMP:20260424T143058Z
DTSTART:20260513T180000
DTEND:20260513T200000
SUMMARY:Gold @ Green
DESCRIPTION:Spring 2026
END:VEVENT
BEGIN:VEVENT
UID:g_5_17@sportschedulerpro.com
DTSTAMP:20260424T143058Z
DTSTART:20260516T100000
DTEND:20260516T120000
SUMMARY:Green @ Grey
DESCRIPTION:Spring 2026
END:VEVENT
BEGIN:VEVENT
UID:g_5_19@sportschedulerpro.com
DTSTAMP:20260424T143058Z
DTSTART:20260520T180000
DTEND:20260520T200000
SUMMARY:Green @ White
DESCRIPTION:Spring 2026
END:VEVENT
BEGIN:VEVENT
UID:g_6_21@sportschedulerpro.com
DTSTAMP:20260424T143058Z
DTSTART:20260523T100000
DTEND:20260523T120000
SUMMARY:Grey @ Green
DESCRIPTION:Spring 2026
END:VEVENT
BEGIN:VEVENT
UID:g_6_22@sportschedulerpro.com
DTSTAMP:20260424T143058Z
DTSTART:20260527T180000
DTEND:20260527T200000
SUMMARY:Gold @ Green
DESCRIPTION:Spring 2026
END:VEVENT
END:VCALENDAR