BEGIN:VCALENDAR
VERSION:2.0
PRODID:-//Sport Scheduler Pro//Schedule//EN
X-WR-CALNAME:White - 6-Team Season
CALSCALE:GREGORIAN
METHOD:PUBLISH
BEGIN:VEVENT
UID:g_1_0@sportschedulerpro.com
DTSTAMP:20260424T143610Z
DTSTART:20260418T100000
DTEND:20260418T120000
SUMMARY:White @ Gold
DESCRIPTION:6-Team Season
END:VEVENT
BEGIN:VEVENT
UID:g_1_3@sportschedulerpro.com
DTSTAMP:20260424T143610Z
DTSTART:20260421T180000
DTEND:20260421T200000
SUMMARY:Gray @ White
DESCRIPTION:6-Team Season
END:VEVENT
BEGIN:VEVENT
UID:g_2_5@sportschedulerpro.com
DTSTAMP:20260424T143610Z
DTSTART:20260425T100000
DTEND:20260425T120000
SUMMARY:Green @ White
DESCRIPTION:6-Team Season
END:VEVENT
BEGIN:VEVENT
UID:g_2_7@sportschedulerpro.com
DTSTAMP:20260424T143610Z
DTSTART:20260428T180000
DTEND:20260428T200000
SUMMARY:White @ Gray
DESCRIPTION:6-Team Season
END:VEVENT
BEGIN:VEVENT
UID:g_3_9@sportschedulerpro.com
DTSTAMP:20260424T143610Z
DTSTART:20260502T100000
DTEND:20260502T120000
SUMMARY:White @ Green
DESCRIPTION:6-Team Season
END:VEVENT
BEGIN:VEVENT
UID:g_3_10@sportschedulerpro.com
DTSTAMP:20260424T143610Z
DTSTART:20260505T180000
DTEND:20260505T200000
SUMMARY:Gold @ White
DESCRIPTION:6-Team Season
END:VEVENT
BEGIN:VEVENT
UID:g_4_13@sportschedulerpro.com
DTSTAMP:20260424T143610Z
DTSTART:20260509T100000
DTEND:20260509T120000
SUMMARY:Gray @ White
DESCRIPTION:6-Team Season
END:VEVENT
BEGIN:VEVENT
UID:g_4_14@sportschedulerpro.com
DTSTAMP:20260424T143610Z
DTSTART:20260512T180000
DTEND:20260512T200000
SUMMARY:White @ Gold
DESCRIPTION:6-Team Season
END:VEVENT
BEGIN:VEVENT
UID:g_5_17@sportschedulerpro.com
DTSTAMP:20260424T143610Z
DTSTART:20260516T100000
DTEND:20260516T120000
SUMMARY:White @ Green
DESCRIPTION:6-Team Season
END:VEVENT
BEGIN:VEVENT
UID:g_5_19@sportschedulerpro.com
DTSTAMP:20260424T143610Z
DTSTART:20260519T180000
DTEND:20260519T200000
SUMMARY:Gray @ White
DESCRIPTION:6-Team Season
END:VEVENT
BEGIN:VEVENT
UID:g_6_20@sportschedulerpro.com
DTSTAMP:20260424T143610Z
DTSTART:20260523T100000
DTEND:20260523T120000
SUMMARY:White @ Gold
DESCRIPTION:6-Team Season
END:VEVENT
BEGIN:VEVENT
UID:g_6_23@sportschedulerpro.com
DTSTAMP:20260424T143610Z
DTSTART:20260526T180000
DTEND:20260526T200000
SUMMARY:Green @ White
DESCRIPTION:6-Team Season
END:VEVENT
END:VCALENDAR